BEGIN:VCALENDAR
VERSION:2.0
PRODID:icalendar-ruby
CALSCALE:GREGORIAN
METHOD:PUBLISH
BEGIN:VEVENT
DTSTAMP:20260420T131704Z
UID:748-64001@stlukesvictoria.ca
DTSTART;VALUE=DATE:20260426
DTEND;VALUE=DATE:20260426
CLASS:PUBLIC
CREATED:20260419T164832
DESCRIPTION:Communion Services for April 26th\, the Fourth Sunday of Easter
 \, will be at 8 am and 10 am. \nThe 10 am service will be livestreamed an
 d recorded to watch later. 
LAST-MODIFIED:20260419T164832
LOCATION:
SUMMARY:Services for the Fourth Sunday of Easter
URL;VALUE=URI:https://www.stlukesvictoria.ca/events/services-for-the-fourth
 -sunday-of-easter--748/2026-04-26
ATTACH;FILENAME=2026 Apr 26 - 1500x784.JPG;FMTTYPE=image/jpeg:https://dq5pw
 pg1q8ru0.cloudfront.net/2026/04/19/23/48/32/ad187380-cbb0-4714-9c3d-a88896
 4e6601/2026%20Apr%2026%20-%201500x784.JPG
END:VEVENT
END:VCALENDAR
