BEGIN:VCALENDAR
VERSION:2.0
PRODID:icalendar-ruby
CALSCALE:GREGORIAN
METHOD:PUBLISH
BEGIN:VEVENT
DTSTAMP:20260424T134140Z
UID:881-64020@stlukesvictoria.ca
DTSTART:20260426T200000Z
DTEND:20260426T220000Z
CLASS:PUBLIC
CREATED:20260422T113017
DESCRIPTION:Join the president of the Lutheran Theological Seminary in Sask
 atoon as he offers a talk and Q&amp\;A on his new book: "Leadership in a S
 hrinking Church."\nJoin us for this free workshop with concrete takeaways 
 on how we can think through being church in these changing times!
LAST-MODIFIED:20260422T113017
LOCATION:Church of the Cross\, Upper Hall\, Sanctuary 
SUMMARY:Leadership in a Shrinking Church
URL;VALUE=URI:https://www.stlukesvictoria.ca/events/leadership-in-a-shrinki
 ng-church/2026-04-26
ATTACH;FILENAME=IMG_3843.jpeg;FMTTYPE=image/jpeg:https://dq5pwpg1q8ru0.clou
 dfront.net/2026/04/21/22/01/49/b18de79f-32aa-4fcc-aafc-b2b5a4c34987/IMG_38
 43.jpeg
END:VEVENT
END:VCALENDAR
